BEGIN:VCALENDAR
VERSION:2.0
PRODID:-//Tukios.com/
BEGIN:VEVENT
UID:a5eb2ca2-1856-4c9f-bd0f-91a0e6fa9ad9@www.mcalister-smith.com
DTSTAMP:20260420T234043Z
DTSTART:20260428T220000Z
DTEND:20260429T000000Z
SUMMARY:Wake
DESCRIPTION:
URL:https://www.mcalister-smith.com/obituaries/cathy-curtis
LOCATION: 1520 Rifle Range Road  Mount Pleasant SC 29464
GEO:32.8093061;-79.836741
END:VEVENT
END:VCALENDAR