BEGIN:VCALENDAR
VERSION:2.0
PRODID:-//Tukios.com/
BEGIN:VEVENT
UID:e6dece17-4704-428f-b40c-5e94f7a6fd7f@www.mcalister-smith.com
DTSTAMP:20260420T233648Z
DTSTART:20260428T220000Z
DTEND:20260428T230000Z
SUMMARY:Rosary
DESCRIPTION:
URL:https://www.mcalister-smith.com/obituaries/cathy-curtis
LOCATION: 1520 Rifle Range Road  Mount Pleasant SC 29464
GEO:32.8093061;-79.836741
END:VEVENT
END:VCALENDAR