BEGIN:VCALENDAR
VERSION:2.0
PRODID:-//Tukios.com/
BEGIN:VEVENT
UID:dccdc711-1c67-409e-9d7b-5da986f713e4@www.mcalister-smith.com
DTSTAMP:20260420T233859Z
DTSTART:20260428T221500Z
DTEND:20260428T231500Z
SUMMARY:SC Nurses Honor Guard
DESCRIPTION:
URL:https://www.mcalister-smith.com/obituaries/cathy-curtis
LOCATION: 1520 Rifle Range Rd  Mt Pleasant SC 29464
GEO:32.8093061;-79.836741
END:VEVENT
END:VCALENDAR