BEGIN:VCALENDAR
VERSION:2.0
PRODID:-//Tukios.com/
BEGIN:VEVENT
UID:93567ffc-6570-4f2f-b2c3-05453e638507@www.mcalister-smith.com
DTSTAMP:20260420T233505Z
DTSTART:20260429T150000Z
DTEND:20260429T160000Z
SUMMARY:Mass of Christian Burial
DESCRIPTION:
URL:https://www.mcalister-smith.com/obituaries/cathy-curtis
LOCATION: 1204 Middle Street  Sullivans Island SC 29482
GEO:32.7607284;-79.8584825
END:VEVENT
END:VCALENDAR