BEGIN:VCALENDAR
VERSION:2.0
PRODID:-//Tukios.com/
BEGIN:VEVENT
UID:6096c474-ccd0-4a20-b6c0-ff06928a9328@www.mcalister-smith.com
DTSTAMP:20260423T234835Z
DTSTART:20260425T153000Z
DTEND:20260425T183000Z
SUMMARY:Celebration of Life
DESCRIPTION:
URL:https://www.mcalister-smith.com/obituaries/curtis-clark
LOCATION:The Lesner Inn 3319 Shore Dr  Virginia Beach VA 23451
GEO:36.9067186;-76.0879581
END:VEVENT
END:VCALENDAR