BEGIN:VCALENDAR
VERSION:2.0
PRODID:-//Tukios.com/
BEGIN:VEVENT
UID:378563a5-c8f5-4c59-ab05-3d9abf85f10d@www.mcalister-smith.com
DTSTAMP:20260419T144845Z
DTSTART:20260420T173000Z
DTEND:20260420T183000Z
SUMMARY:Funeral Service
DESCRIPTION:
URL:https://www.mcalister-smith.com/obituaries/gabriela-rosario
LOCATION:McAlister-Smith Funeral & Cremation - Mount Pleasant 1520Rifle 
	Range Road  Mount Pleasant SC 29464
GEO:32.8234848;-79.8520818
END:VEVENT
END:VCALENDAR