BEGIN:VCALENDAR
VERSION:2.0
PRODID:-//Tukios.com/
BEGIN:VEVENT
UID:8293600e-7088-4bb2-983b-088d7b61bc78@www.mcalister-smith.com
DTSTAMP:20260419T144523Z
DTSTART:20260420T163000Z
DTEND:20260420T173000Z
SUMMARY:Visitation 
DESCRIPTION:
URL:https://www.mcalister-smith.com/obituaries/gabriela-rosario
LOCATION:McAlister-Smith Funeral & Cremation - Mount Pleasant 1520Rifle 
	Range Road  Mount Pleasant SC 29464
GEO:32.8234848;-79.8520818
END:VEVENT
END:VCALENDAR