BEGIN:VCALENDAR
VERSION:2.0
PRODID:-//Tukios.com/
BEGIN:VEVENT
UID:45ded4b8-613e-4cd4-ab18-dcddebf69d3e@www.mcalister-smith.com
DTSTAMP:20260419T144457Z
DTSTART:20260419T180000Z
DTEND:20260419T220000Z
SUMMARY:Visitation 
DESCRIPTION:
URL:https://www.mcalister-smith.com/obituaries/gabriela-rosario
LOCATION:McAlister-Smith Funeral & Cremation - Mount Pleasant 1520Rifle 
	Range Road  Mount Pleasant SC 29464
GEO:32.8234848;-79.8520818
END:VEVENT
END:VCALENDAR