BEGIN:VCALENDAR
VERSION:2.0
PRODID:-//Tukios.com/
BEGIN:VEVENT
UID:3bc831e5-9b31-4580-b0cd-78b9f110cec6@www.mcalister-smith.com
DTSTAMP:20260419T144610Z
DTSTART:20260420T190000Z
DTEND:20260420T200000Z
SUMMARY:Burial
DESCRIPTION:
URL:https://www.mcalister-smith.com/obituaries/gabriela-rosario
LOCATION:Mount Pleasant Memorial Gardens 1308 Mathis Ferry Road  Mount 
	Pleasant SC 29464
GEO:32.824272;-79.8543293
END:VEVENT
END:VCALENDAR