BEGIN:VCALENDAR
VERSION:2.0
PRODID:-//Tukios.com/
BEGIN:VEVENT
UID:64c8a9f8-d918-47d2-a494-a12ab59e3d95@www.mcalister-smith.com
DTSTAMP:20260423T225713Z
DTSTART:20260428T150000Z
DTEND:20260428T160000Z
SUMMARY:Funeral Service
DESCRIPTION:
URL:https://www.mcalister-smith.com/obituaries/sheila-madden
LOCATION: 1520 Rifle Range Road  Mount Pleasant SC 29464
GEO:32.8093061;-79.836741
END:VEVENT
END:VCALENDAR