BEGIN:VCALENDAR
VERSION:2.0
PRODID:-//Tukios.com/
BEGIN:VEVENT
UID:ff760bb5-67c1-4b28-99cd-fa7d01623e1a@www.mcalister-smith.com
DTSTAMP:20260421T162724Z
DTSTART:20260423T150000Z
DTEND:20260423T160000Z
SUMMARY:Graveside Service
DESCRIPTION:
URL:https://www.mcalister-smith.com/obituaries/william-sketo-jr
LOCATION:Celestial Memorial Gardens 3111 Delree Street  West Columbia SC 
	29170
GEO:33.9748375;-81.1226795
END:VEVENT
END:VCALENDAR